BEGIN:VCALENDAR
VERSION:2.0
PRODID:-//Historic St. Mary's Mission &amp; Museum - ECPv6.15.15//NONSGML v1.0//EN
CALSCALE:GREGORIAN
METHOD:PUBLISH
X-WR-CALNAME:Historic St. Mary's Mission &amp; Museum
X-ORIGINAL-URL:https://saintmarysmission.org
X-WR-CALDESC:Events for Historic St. Mary's Mission &amp; Museum
REFRESH-INTERVAL;VALUE=DURATION:PT1H
X-Robots-Tag:noindex
X-PUBLISHED-TTL:PT1H
BEGIN:VTIMEZONE
TZID:America/Denver
BEGIN:DAYLIGHT
TZOFFSETFROM:-0700
TZOFFSETTO:-0600
TZNAME:MDT
DTSTART:20220313T090000
END:DAYLIGHT
BEGIN:STANDARD
TZOFFSETFROM:-0600
TZOFFSETTO:-0700
TZNAME:MST
DTSTART:20221106T080000
END:STANDARD
BEGIN:DAYLIGHT
TZOFFSETFROM:-0700
TZOFFSETTO:-0600
TZNAME:MDT
DTSTART:20230312T090000
END:DAYLIGHT
BEGIN:STANDARD
TZOFFSETFROM:-0600
TZOFFSETTO:-0700
TZNAME:MST
DTSTART:20231105T080000
END:STANDARD
BEGIN:DAYLIGHT
TZOFFSETFROM:-0700
TZOFFSETTO:-0600
TZNAME:MDT
DTSTART:20240310T090000
END:DAYLIGHT
BEGIN:STANDARD
TZOFFSETFROM:-0600
TZOFFSETTO:-0700
TZNAME:MST
DTSTART:20241103T080000
END:STANDARD
BEGIN:DAYLIGHT
TZOFFSETFROM:-0700
TZOFFSETTO:-0600
TZNAME:MDT
DTSTART:20250309T090000
END:DAYLIGHT
BEGIN:STANDARD
TZOFFSETFROM:-0600
TZOFFSETTO:-0700
TZNAME:MST
DTSTART:20251102T080000
END:STANDARD
BEGIN:DAYLIGHT
TZOFFSETFROM:-0700
TZOFFSETTO:-0600
TZNAME:MDT
DTSTART:20260308T090000
END:DAYLIGHT
BEGIN:STANDARD
TZOFFSETFROM:-0600
TZOFFSETTO:-0700
TZNAME:MST
DTSTART:20261101T080000
END:STANDARD
END:VTIMEZONE
BEGIN:VEVENT
DTSTART;TZID=America/Denver:20250720T190000
DTEND;TZID=America/Denver:20250720T200000
DTSTAMP:20260422T174213
CREATED:20250702T223049Z
LAST-MODIFIED:20250702T223049Z
UID:10000160-1753038000-1753041600@saintmarysmission.org
SUMMARY:Music At The Mission
DESCRIPTION:Historic St. Mary’s Mission is proud to present to you:  Music At The Mission with Philip Page\, Montana’s Cowboy Singer\, Songwriter\, and Storyteller. Join us July 20th\, 2025 at 7:00 pm in the Historic Chapel.  Refreshments will be served after the performance. Admission is Free. Donations are always welcome.
URL:https://saintmarysmission.org/event/music-at-the-mission-3/
LOCATION:Chapel at Historic St. Mary’s MIssion\, 315 Charlos Street\, Stevensville\, MT\, 59870\, United States
CATEGORIES:Music
ATTACH;FMTTYPE=image/jpeg:https://saintmarysmission.org/wp-content/uploads/2025/07/IMG_1636.jpg
ORGANIZER;CN="Historic St. Mary's Mission":MAILTO:historicsaintmarys@gmail.com
END:VEVENT
BEGIN:VEVENT
DTSTART;TZID=America/Denver:20240120T110000
DTEND;TZID=America/Denver:20240120T150000
DTSTAMP:20260422T174213
CREATED:20240115T194101Z
LAST-MODIFIED:20240115T194101Z
UID:10000025-1705748400-1705762800@saintmarysmission.org
SUMMARY:Winter Art Event
DESCRIPTION:Escape the chill join us for an exclusive exhibition featuring paintings by talented local artists.\nExplore the beauty of our community’s creativity as artists showcase their finest works. From stunning landscapes to captivating abstract pieces.\nSaturday\, January 20th from 11:00  am to 3:00 pm\nHistoric St. Mary’s Mission and Museum\n315 Charlos St.\nStevensville\, MT 59870\nSelect paintings will be available for purchase\, allowing you to bring a piece of local talent into your home.
URL:https://saintmarysmission.org/event/winter-art-event/
LOCATION:Chapel at Historic St. Mary’s MIssion\, 315 Charlos Street\, Stevensville\, MT\, 59870\, United States
ATTACH;FMTTYPE=image/png:https://saintmarysmission.org/wp-content/uploads/2024/01/Winter-Art-Show.png
ORGANIZER;CN="Historic St. Mary's Mission":MAILTO:historicsaintmarys@gmail.com
END:VEVENT
BEGIN:VEVENT
DTSTART;VALUE=DATE:20231201
DTEND;VALUE=DATE:20231204
DTSTAMP:20260422T174213
CREATED:20231130T205130Z
LAST-MODIFIED:20231130T205623Z
UID:10000024-1701388800-1701647999@saintmarysmission.org
SUMMARY:Country Christmas - Nativities Around the World
DESCRIPTION:Celebrate the magic of the holiday season with us as we invite you to embark on a journey around the world through enchanting nativities and whimsical Christmas stockings.  Free crafts for children (while supplies last) – No entrance fee – Donations are welcome \nFRI. DEC 1:\n11:00 am – 8:30 pm – Exhibit Open\n6:30 pm – 8:00 pm Chapel Open House & Wagon Rides by Stevensville Civic Club \nSAT. DEC 2\n11:00 am to 3:00 pm Exhibit Open \nSUN. DEC 3\n   10:00 am to 12:00 pm Exhibit Open
URL:https://saintmarysmission.org/event/country-christmas-nativities-around-the-world/
LOCATION:Chapel at Historic St. Mary’s MIssion\, 315 Charlos Street\, Stevensville\, MT\, 59870\, United States
ATTACH;FMTTYPE=image/jpeg:https://saintmarysmission.org/wp-content/uploads/2023/11/chapel-2023.jpg
ORGANIZER;CN="Historic St. Mary's Mission":MAILTO:historicsaintmarys@gmail.com
END:VEVENT
BEGIN:VEVENT
DTSTART;TZID=America/Denver:20230730T190000
DTEND;TZID=America/Denver:20230730T200000
DTSTAMP:20260422T174213
CREATED:20230711T234409Z
LAST-MODIFIED:20230712T204030Z
UID:10000017-1690743600-1690747200@saintmarysmission.org
SUMMARY:Music at the Mission 2023
DESCRIPTION:Meet Lisa Weber the gifted singer whose voice brings inspiration to many.  With her gentle yet powerful vocals\, she creates an atmosphere of reverence and upliftment\, touching the hearts of all who listen.  Lisa’s deep-rooted faith shines through her music\, as she delivers hymns and spiritual songs with a sincerity that resonates with parishioners at St. Mary’s Parish in Stevensville.  Lisa’s voice effortlessly carries the messages of hope\, love\, and gratitude\, infusing each song with a divine presence. Her gift of music uplifts the spirits of those in attendance\, creating a space for spiritual connection and renewal. Her voice is truly a divine instrument that touches the hearts and souls of all who have the privilege of hearing her sing.  Don’t miss your chance to witness the incredible talent of this extraordinary guitar player and singer. \nPie & Ice Cream will be served after the performance. Your donations are welcome. Proceeds will help raise funds for the rebuilding of the blacksmith shop. We are a 501(c)(3) organization. Thank you for your support!
URL:https://saintmarysmission.org/event/music-at-the-mission-2023/
LOCATION:Chapel at Historic St. Mary’s MIssion\, 315 Charlos Street\, Stevensville\, MT\, 59870\, United States
ATTACH;FMTTYPE=image/jpeg:https://saintmarysmission.org/wp-content/uploads/2023/07/IMG_5619-scaled.jpg
ORGANIZER;CN="Historic St. Mary's Mission":MAILTO:historicsaintmarys@gmail.com
END:VEVENT
BEGIN:VEVENT
DTSTART;TZID=America/Denver:20230611T180000
DTEND;TZID=America/Denver:20230611T190000
DTSTAMP:20260422T174213
CREATED:20230611T133251Z
LAST-MODIFIED:20230611T133543Z
UID:10000016-1686506400-1686510000@saintmarysmission.org
SUMMARY:The Life of Fr. Anthony Ravalli\, S.J.
DESCRIPTION:Learn about the life of Fr. Anthony Ravalli\, S.J.\, an Italian Jesuit missionary who was recruited by Father Pierre-Jean DeSmet\, S.J. to serve at St. Mary’s Mission.\nBorn in Ferrara\, Italy\, Father Ravalli became the beloved priest\, physician\, pharmacist\, sculptor\, architect\, machinist\, farmer and friend to Native Americans of the Northwest. \nThis presentation will include the unveiling of our latest acquisitions:  A painting by Fr. Ravalli\, A book belonging to St. Mary’s Mission and a crucifix owned by Fr. DeSmet.
URL:https://saintmarysmission.org/event/the-life-of-fr-anthony-ravalli-s-j/
LOCATION:Chapel at Historic St. Mary’s MIssion\, 315 Charlos Street\, Stevensville\, MT\, 59870\, United States
ATTACH;FMTTYPE=image/jpeg:https://saintmarysmission.org/wp-content/uploads/2022/06/Fr.-Anthony-Ravalli-scaled.jpg
ORGANIZER;CN="Historic St. Mary's Mission":MAILTO:historicsaintmarys@gmail.com
END:VEVENT
BEGIN:VEVENT
DTSTART;TZID=America/Denver:20230524T180000
DTEND;TZID=America/Denver:20230524T180000
DTSTAMP:20260422T174213
CREATED:20230519T160908Z
LAST-MODIFIED:20230519T162143Z
UID:10000015-1684951200-1684951200@saintmarysmission.org
SUMMARY:The life of Father Pierre Jean DeSmet\, S.J.
DESCRIPTION:St. Mary’s Mission was founded in 1841 in the Pacific Northwest by Father Pierre Jean DeSmet at the request of the Salish Indian Tribe.  It is a remarkable story\, which we are honored to share.  St. Mary’s Mission is significant for several reasons.  St. Mary’s of the Rocky Mountains was Father DeSmet’s first church\, as well as\, the first mission in the region which also provided many other first occurrences before Montana attained statehood. \n 
URL:https://saintmarysmission.org/event/the-life-of-father-pierre-jean-desmet-s-j/
LOCATION:Chapel at Historic St. Mary’s MIssion\, 315 Charlos Street\, Stevensville\, MT\, 59870\, United States
ATTACH;FMTTYPE=image/png:https://saintmarysmission.org/wp-content/uploads/2023/05/Fr.-DeSmet-copy-1.png
ORGANIZER;CN="Historic St. Mary's Mission":MAILTO:historicsaintmarys@gmail.com
END:VEVENT
BEGIN:VEVENT
DTSTART;TZID=America/Denver:20230318T110000
DTEND;TZID=America/Denver:20230318T120000
DTSTAMP:20260422T174214
CREATED:20230309T141340Z
LAST-MODIFIED:20230309T141340Z
UID:10000012-1679137200-1679140800@saintmarysmission.org
SUMMARY:Montana Conversations: “Six Hundred Generations: Exploring the Indigenous Archaeology of Montana” with Carl M. Davis
DESCRIPTION:Montana Conversations: “Six Hundred Generations: Exploring the Indigenous Archaeology of Montana” with Carl M. Davis on Saturday\, April 18 at 11:00 A.M. The program is at the Historic St. Mary’s Mission Chapel. \nThe presentation is free and open to the public. Funding for the Montana Conversations program is provided by Humanities Montana through grants from the National Endowment for the Humanities\, Montana’s Cultural Trust\, and private donations.
URL:https://saintmarysmission.org/event/montana-conversations-six-hundred-generations-exploring-the-indigenous-archaeology-of-montana-with-carl-m-davis/
LOCATION:Chapel at Historic St. Mary’s MIssion\, 315 Charlos Street\, Stevensville\, MT\, 59870\, United States
ATTACH;FMTTYPE=image/jpeg:https://saintmarysmission.org/wp-content/uploads/2023/03/Carl-Davis.jpg
ORGANIZER;CN="Historic St. Mary's Mission":MAILTO:historicsaintmarys@gmail.com
END:VEVENT
END:VCALENDAR