BEGIN:VCALENDAR
VERSION:2.0
PRODID:-//Historic St. Mary's Mission &amp; Museum - ECPv6.15.15//NONSGML v1.0//EN
CALSCALE:GREGORIAN
METHOD:PUBLISH
X-WR-CALNAME:Historic St. Mary's Mission &amp; Museum
X-ORIGINAL-URL:https://saintmarysmission.org
X-WR-CALDESC:Events for Historic St. Mary's Mission &amp; Museum
REFRESH-INTERVAL;VALUE=DURATION:PT1H
X-Robots-Tag:noindex
X-PUBLISHED-TTL:PT1H
BEGIN:VTIMEZONE
TZID:America/Denver
BEGIN:DAYLIGHT
TZOFFSETFROM:-0700
TZOFFSETTO:-0600
TZNAME:MDT
DTSTART:20210314T090000
END:DAYLIGHT
BEGIN:STANDARD
TZOFFSETFROM:-0600
TZOFFSETTO:-0700
TZNAME:MST
DTSTART:20211107T080000
END:STANDARD
BEGIN:DAYLIGHT
TZOFFSETFROM:-0700
TZOFFSETTO:-0600
TZNAME:MDT
DTSTART:20220313T090000
END:DAYLIGHT
BEGIN:STANDARD
TZOFFSETFROM:-0600
TZOFFSETTO:-0700
TZNAME:MST
DTSTART:20221106T080000
END:STANDARD
BEGIN:DAYLIGHT
TZOFFSETFROM:-0700
TZOFFSETTO:-0600
TZNAME:MDT
DTSTART:20230312T090000
END:DAYLIGHT
BEGIN:STANDARD
TZOFFSETFROM:-0600
TZOFFSETTO:-0700
TZNAME:MST
DTSTART:20231105T080000
END:STANDARD
BEGIN:DAYLIGHT
TZOFFSETFROM:-0700
TZOFFSETTO:-0600
TZNAME:MDT
DTSTART:20240310T090000
END:DAYLIGHT
BEGIN:STANDARD
TZOFFSETFROM:-0600
TZOFFSETTO:-0700
TZNAME:MST
DTSTART:20241103T080000
END:STANDARD
END:VTIMEZONE
BEGIN:VEVENT
DTSTART;TZID=America/Denver:20230524T180000
DTEND;TZID=America/Denver:20230524T180000
DTSTAMP:20260421T120210
CREATED:20230519T160908Z
LAST-MODIFIED:20230519T162143Z
UID:10000015-1684951200-1684951200@saintmarysmission.org
SUMMARY:The life of Father Pierre Jean DeSmet\, S.J.
DESCRIPTION:St. Mary’s Mission was founded in 1841 in the Pacific Northwest by Father Pierre Jean DeSmet at the request of the Salish Indian Tribe.  It is a remarkable story\, which we are honored to share.  St. Mary’s Mission is significant for several reasons.  St. Mary’s of the Rocky Mountains was Father DeSmet’s first church\, as well as\, the first mission in the region which also provided many other first occurrences before Montana attained statehood. \n 
URL:https://saintmarysmission.org/event/the-life-of-father-pierre-jean-desmet-s-j/
LOCATION:Chapel at Historic St. Mary’s MIssion\, 315 Charlos Street\, Stevensville\, MT\, 59870\, United States
ATTACH;FMTTYPE=image/png:https://saintmarysmission.org/wp-content/uploads/2023/05/Fr.-DeSmet-copy-1.png
ORGANIZER;CN="Historic St. Mary's Mission":MAILTO:historicsaintmarys@gmail.com
END:VEVENT
BEGIN:VEVENT
DTSTART;TZID=America/Denver:20230422T110000
DTEND;TZID=America/Denver:20230422T120000
DTSTAMP:20260421T120210
CREATED:20230411T233851Z
LAST-MODIFIED:20230411T234735Z
UID:10000014-1682161200-1682164800@saintmarysmission.org
SUMMARY:Living With The Land  - Montana Conversations
DESCRIPTION:Living with the Land – Louise Fischer\nFischer describes the American Indian struggle for survival in often harsh conditions\, triumph over hardships\, and spiritual and creative achievements. This inspiring talk enhances understanding of how the Indian peoples lived\, and will focus particularly clothing.  Fischer\, an artist who was raised in a traditional Indian environment\, has been sharing traditional knowledge for the past thirty years.
URL:https://saintmarysmission.org/event/living-with-the-land-montana-conversations/
LOCATION:MT
ATTACH;FMTTYPE=image/jpeg:https://saintmarysmission.org/wp-content/uploads/2022/06/SalishTipis.jpg
END:VEVENT
BEGIN:VEVENT
DTSTART;TZID=America/Denver:20230418T110000
DTEND;TZID=America/Denver:20230418T150000
DTSTAMP:20260421T120210
CREATED:20230411T233127Z
LAST-MODIFIED:20230411T233127Z
UID:10000013-1681815600-1681830000@saintmarysmission.org
SUMMARY:2023 Opening Day
DESCRIPTION:Join us for the Opening Day Celebration on Tuesday\, April 18 at Historic St. Mary’s Mission. \nDoors will open at 11:00 followed by a flag raising ceremony by the Stevensville FFA Chapter at 11:30 am. Chapel bell ringing by Harry Rice\, Mass will be celebrated by Fr. Severson in the historic St. Mary’s Chapel at noon\, followed by refreshments served at the Visitor Center. \nVisit St. Historic Mary’s Mission and Museum at 315 Charlos Street in Stevensville and learn about “Montana’s First Best Place”. Guided tours are available Tuesday through Saturday from April 18-October 14\, 2023.
URL:https://saintmarysmission.org/event/2023-opening-day/
LOCATION:MT
CATEGORIES:art
ATTACH;FMTTYPE=image/jpeg:https://saintmarysmission.org/wp-content/uploads/2022/06/DJI_0032-scaled.jpg
END:VEVENT
BEGIN:VEVENT
DTSTART;TZID=America/Denver:20230318T110000
DTEND;TZID=America/Denver:20230318T120000
DTSTAMP:20260421T120210
CREATED:20230309T141340Z
LAST-MODIFIED:20230309T141340Z
UID:10000012-1679137200-1679140800@saintmarysmission.org
SUMMARY:Montana Conversations: “Six Hundred Generations: Exploring the Indigenous Archaeology of Montana” with Carl M. Davis
DESCRIPTION:Montana Conversations: “Six Hundred Generations: Exploring the Indigenous Archaeology of Montana” with Carl M. Davis on Saturday\, April 18 at 11:00 A.M. The program is at the Historic St. Mary’s Mission Chapel. \nThe presentation is free and open to the public. Funding for the Montana Conversations program is provided by Humanities Montana through grants from the National Endowment for the Humanities\, Montana’s Cultural Trust\, and private donations.
URL:https://saintmarysmission.org/event/montana-conversations-six-hundred-generations-exploring-the-indigenous-archaeology-of-montana-with-carl-m-davis/
LOCATION:Chapel at Historic St. Mary’s MIssion\, 315 Charlos Street\, Stevensville\, MT\, 59870\, United States
ATTACH;FMTTYPE=image/jpeg:https://saintmarysmission.org/wp-content/uploads/2023/03/Carl-Davis.jpg
ORGANIZER;CN="Historic St. Mary's Mission":MAILTO:historicsaintmarys@gmail.com
END:VEVENT
BEGIN:VEVENT
DTSTART;TZID=America/Denver:20230121T120000
DTEND;TZID=America/Denver:20230121T160000
DTSTAMP:20260421T120210
CREATED:20230114T225908Z
LAST-MODIFIED:20230114T230540Z
UID:10000011-1674302400-1674316800@saintmarysmission.org
SUMMARY:January Saturday Series Event: Doll Exhibit
DESCRIPTION:Our 2023 Saturday Series Events will take place at Historic St. Mary’s Mission featuring one special event every month.  Subscribe to our calendar!
URL:https://saintmarysmission.org/event/january-saturday-series-event-doll-exhibit/
LOCATION:Historic St. Mary’s Mission\, 315 CHARLOS STREET\, STEVENSVILLE\, MT\, 59870\, United States
CATEGORIES:art
ATTACH;FMTTYPE=image/jpeg:https://saintmarysmission.org/wp-content/uploads/2023/01/Doll-Club-MT-girl.jpg
END:VEVENT
BEGIN:VEVENT
DTSTART;TZID=America/Denver:20221204T110000
DTEND;TZID=America/Denver:20221204T150000
DTSTAMP:20260421T120210
CREATED:20221119T191036Z
LAST-MODIFIED:20221119T191036Z
UID:10000010-1670151600-1670166000@saintmarysmission.org
SUMMARY:Christmas Around the World: Nativities and Wreaths Display
DESCRIPTION:Join us for this special event.  Nativities and Wreath Display. \nThis exhibit will be open from 11:00 am to 3:00 pm \nOur gift shop is also open\, shop local and support local artists among other items.
URL:https://saintmarysmission.org/event/christmas-around-the-world-nativities-and-wreaths-display-3/
LOCATION:MT
ATTACH;FMTTYPE=image/jpeg:https://saintmarysmission.org/wp-content/uploads/2022/11/Christmas-1-scaled.jpg
END:VEVENT
BEGIN:VEVENT
DTSTART;TZID=America/Denver:20221203T110000
DTEND;TZID=America/Denver:20221203T150000
DTSTAMP:20260421T120210
CREATED:20221119T190848Z
LAST-MODIFIED:20221119T190848Z
UID:10000009-1670065200-1670079600@saintmarysmission.org
SUMMARY:Christmas Around the World: Nativities and Wreaths Display
DESCRIPTION:Join us for this special event.  Nativities and Wreath Display. \nThis exhibit will be open from 11:00 am to 3:00 pm \nOur gift shop is also open\, shop local and support local artists among other items.
URL:https://saintmarysmission.org/event/christmas-around-the-world-nativities-and-wreaths-display-2/
LOCATION:MT
ATTACH;FMTTYPE=image/jpeg:https://saintmarysmission.org/wp-content/uploads/2022/11/Christmas-1-scaled.jpg
END:VEVENT
BEGIN:VEVENT
DTSTART;TZID=America/Denver:20221202T110000
DTEND;TZID=America/Denver:20221202T203000
DTSTAMP:20260421T120210
CREATED:20221119T190412Z
LAST-MODIFIED:20221119T190412Z
UID:10000008-1669978800-1670013000@saintmarysmission.org
SUMMARY:Christmas Around the World: Nativities and Wreaths Display
DESCRIPTION:Join us for this very special event.\nGift Shop Opens at 11:0 am on December 2. Exhibit will be open until 8:30 pm\nChapel Open House and free Wagon Rides to Stevensville (sponsored by Stevensville Civic Club) from 6:30 pm to 8:30 pm \nFREE children’s crafts\, also a SPECIAL WREATH RAFFLE: Please purchase tickets for a special wreath donated by Bitterroot Evergreens and decorated by local Artist Leisa Lewis \n 
URL:https://saintmarysmission.org/event/christmas-around-the-world-nativities-and-wreaths-display/
LOCATION:MT
ATTACH;FMTTYPE=image/jpeg:https://saintmarysmission.org/wp-content/uploads/2022/11/Christmas-1-scaled.jpg
END:VEVENT
BEGIN:VEVENT
DTSTART;TZID=America/Denver:20221130T110000
DTEND;TZID=America/Denver:20221130T150000
DTSTAMP:20260421T120210
CREATED:20221119T185314Z
LAST-MODIFIED:20221119T185410Z
UID:10000007-1669806000-1669820400@saintmarysmission.org
SUMMARY:Share your Nativity Scenes & Christmas Wreaths!
DESCRIPTION:Share your Nativity Scenes & Christmas Wreaths!\nHistoric St. Mary’s Mission and Museum will display for you\, December 2-4\, 2022\nBring your Nativities and Wreaths Wednesday\, November 30 from 11:00 am to 3:00 pm\nWe will proudly display them in our Museum at our Christmas Around The World: Nativities & Wreath Display\, December 2-4\, 2022. We will return your items on Monday\, December 5\, 2022. \n 
URL:https://saintmarysmission.org/event/share-your-nativity-scenes-christmas-wreaths/
LOCATION:MT
ATTACH;FMTTYPE=image/jpeg:https://saintmarysmission.org/wp-content/uploads/2022/11/Nativity-scaled.jpg
ORGANIZER;CN="Historic St. Mary's Mission":MAILTO:historicsaintmarys@gmail.com
END:VEVENT
BEGIN:VEVENT
DTSTART;TZID=America/Denver:20221117T180000
DTEND;TZID=America/Denver:20221117T190000
DTSTAMP:20260421T120210
CREATED:20221027T170314Z
LAST-MODIFIED:20221027T170451Z
UID:10000006-1668708000-1668711600@saintmarysmission.org
SUMMARY:Re-Envisioned by Megan Karls
DESCRIPTION:Re-Envisioned: Montana Composers in Mission Churches\, is a video album of new music for solo violin recorded live on location in St. Ignatius Mission\, St. Mary’s Mission\, St. Peter’s Mission outside Cascade and the Pink Church\, or Sacred Heart Catholic Mission outside Harlem\, Montana. Each piece was written specifically for\, and inspired by\, the place it was performed in. These new works\, composed by Grant Harville\, Charles Nichols\, Phillip Aaberg and Megan Karls\, are meant to bring awareness and meditation on this unique Montana history and the people surrounding it. \n 
URL:https://saintmarysmission.org/event/re-envisioned-by-megan-karls/
LOCATION:Chapel at Historic St. Mary’s MIssion\, 315 Charlos Street\, Stevensville\, MT\, 59870\, United States
CATEGORIES:Music
ATTACH;FMTTYPE=image/jpeg:https://saintmarysmission.org/wp-content/uploads/2022/10/2E82EE80-0E93-492F-AC0B-281BDF07719C-scaled.jpg
ORGANIZER;CN="Historic St. Mary's Mission":MAILTO:historicsaintmarys@gmail.com
END:VEVENT
BEGIN:VEVENT
DTSTART;TZID=America/Denver:20221015T110000
DTEND;TZID=America/Denver:20221015T140000
DTSTAMP:20260421T120210
CREATED:20220731T000126Z
LAST-MODIFIED:20220731T000717Z
UID:10000005-1665831600-1665842400@saintmarysmission.org
SUMMARY:Mission Tours - Oct. 15\, Last Day of the Season
DESCRIPTION:
URL:https://saintmarysmission.org/event/mission-tours/
LOCATION:MT
ATTACH;FMTTYPE=image/jpeg:https://saintmarysmission.org/wp-content/uploads/2022/07/IMG_9605-scaled.jpg
END:VEVENT
BEGIN:VEVENT
DTSTART;TZID=America/Denver:20220730T130000
DTEND;TZID=America/Denver:20220730T170000
DTSTAMP:20260421T120210
CREATED:20220721T194344Z
LAST-MODIFIED:20220721T194612Z
UID:10000004-1659186000-1659200400@saintmarysmission.org
SUMMARY:Living History Presentation
DESCRIPTION:Offered at the 2022 Daly Days “Back to Our Roots” event at the Daly Mansion.  Visit Historic St. Mary’s Mission booth as part of the Living History activities.
URL:https://saintmarysmission.org/event/living-history-presentation/
LOCATION:Daly Mansion\, 251 Eastside Hwy.\, Hamilton\, MT\, 59840\, United States
ATTACH;FMTTYPE=image/jpeg:https://saintmarysmission.org/wp-content/uploads/2022/06/stmarysmission_old.jpg
END:VEVENT
BEGIN:VEVENT
DTSTART;TZID=America/Denver:20220724T190000
DTEND;TZID=America/Denver:20220724T200000
DTSTAMP:20260421T120210
CREATED:20220607T220202Z
LAST-MODIFIED:20220716T130505Z
UID:10000003-1658689200-1658692800@saintmarysmission.org
SUMMARY:Music at the Mission
DESCRIPTION:Featuring Montana violinist Megan Karls. \nMegan Karls performs as Co-Concertmaster of the Great Falls Symphony\, and as violinist with the Cascade String Quartet.\nAn established performer across the state\, Megan is also the Associate Concertmaster of the Billings Symphony and has frequented as guest Concertmaster for the Bozeman\, Billings and Butte Symphonies\, Intermountain Opera Company\, and with the conductorless String Orchestra of the Rockies. She has previously held orchestral positions across the US\, with the Boise\, Wichita\, Green Bay\, Des Moines and Fox Valley Symphony orchestras\, among others.
URL:https://saintmarysmission.org/event/music-at-the-misson/
LOCATION:MT
ATTACH;FMTTYPE=image/webp:https://saintmarysmission.org/wp-content/uploads/2022/06/5675ed_12d7b0c9d51b40139dd37fe9e1eb76c9_mv2_d_3000_2000_s_2.webp
ORGANIZER;CN="Historic St. Mary's Mission":MAILTO:historicsaintmarys@gmail.com
END:VEVENT
BEGIN:VEVENT
DTSTART;TZID=America/Denver:20220625T130000
DTEND;TZID=America/Denver:20220625T150000
DTSTAMP:20260421T120210
CREATED:20220607T214701Z
LAST-MODIFIED:20220607T214830Z
UID:10000002-1656162000-1656169200@saintmarysmission.org
SUMMARY:Salish Dancers
DESCRIPTION:Join us as we welcome Salish Drummers and Dancers in celebration of Western Heritage Days.
URL:https://saintmarysmission.org/event/salish-dancers/
LOCATION:MT
ATTACH;FMTTYPE=image/jpeg:https://saintmarysmission.org/wp-content/uploads/2022/06/IMG_3683.jpg
END:VEVENT
BEGIN:VEVENT
DTSTART;TZID=America/Denver:20220611T110000
DTEND;TZID=America/Denver:20220611T123000
DTSTAMP:20260421T120210
CREATED:20220526T163843Z
LAST-MODIFIED:20220607T214032Z
UID:10000001-1654945200-1654950600@saintmarysmission.org
SUMMARY:Walk through Art
DESCRIPTION:Learn about the art and history behind some of the special pieces located in The Art Gallery at Historic St. Mary’s Mission. Retired Art teacher Lyn Graves as our speaker\, with Colleen Meyer as our special guest\, who will share how Historic St. Mary’s Mission obtained this art collection.\nAdmission is free – Donations are always accepted.
URL:https://saintmarysmission.org/event/walk-through-art/
LOCATION:Gallery at Visitor Center
ATTACH;FMTTYPE=image/jpeg:https://saintmarysmission.org/wp-content/uploads/2022/04/history-01.jpg
END:VEVENT
END:VCALENDAR