BEGIN:VCALENDAR
VERSION:2.0
PRODID:-//Historic St. Mary's Mission &amp; Museum - ECPv6.15.20//NONSGML v1.0//EN
CALSCALE:GREGORIAN
METHOD:PUBLISH
X-WR-CALNAME:Historic St. Mary's Mission &amp; Museum
X-ORIGINAL-URL:https://saintmarysmission.org
X-WR-CALDESC:Events for Historic St. Mary's Mission &amp; Museum
REFRESH-INTERVAL;VALUE=DURATION:PT1H
X-Robots-Tag:noindex
X-PUBLISHED-TTL:PT1H
BEGIN:VTIMEZONE
TZID:America/Denver
BEGIN:DAYLIGHT
TZOFFSETFROM:-0700
TZOFFSETTO:-0600
TZNAME:MDT
DTSTART:20220313T090000
END:DAYLIGHT
BEGIN:STANDARD
TZOFFSETFROM:-0600
TZOFFSETTO:-0700
TZNAME:MST
DTSTART:20221106T080000
END:STANDARD
BEGIN:DAYLIGHT
TZOFFSETFROM:-0700
TZOFFSETTO:-0600
TZNAME:MDT
DTSTART:20230312T090000
END:DAYLIGHT
BEGIN:STANDARD
TZOFFSETFROM:-0600
TZOFFSETTO:-0700
TZNAME:MST
DTSTART:20231105T080000
END:STANDARD
BEGIN:DAYLIGHT
TZOFFSETFROM:-0700
TZOFFSETTO:-0600
TZNAME:MDT
DTSTART:20240310T090000
END:DAYLIGHT
BEGIN:STANDARD
TZOFFSETFROM:-0600
TZOFFSETTO:-0700
TZNAME:MST
DTSTART:20241103T080000
END:STANDARD
END:VTIMEZONE
BEGIN:VEVENT
DTSTART;VALUE=DATE:20230804
DTEND;VALUE=DATE:20230806
DTSTAMP:20260424T140235
CREATED:20230803T214453Z
LAST-MODIFIED:20230803T214453Z
UID:10000018-1691107200-1691279999@saintmarysmission.org
SUMMARY:Stevensville Creamery Picnic
DESCRIPTION:STEVENSVILLE CREAMERY PICNIC \nAugust 4th & 5th 2023\nbrought to you by the Stevensville Civic Club \nCreamery Picnic 2023 Schedule – More details below \n\nFriday\, August 4th\nMain Street\n     – Kids Parade\, 6pm\n     – Shodown on stage at 7pm\nLewis & Clark Park\n     – Tightline takes the stage at 7pm \nSaturday\, August 5th\nMain Street\n     – Grand Parade at 11am\n     – Firefighter games at 2pm\nLewis & Clark Park\n     – Joan Zen on stage at 7pm
URL:https://saintmarysmission.org/event/stevensville-creamery-picnic/
LOCATION:Stevensville\, MT\, Main Street & Lewis & Clark Park\, Stevensville\, MT\, 59870\, United States
CATEGORIES:Music
ATTACH;FMTTYPE=image/jpeg:https://saintmarysmission.org/wp-content/uploads/2023/08/My-project-1-22-scaled.jpg
END:VEVENT
END:VCALENDAR